Workbook

Sheet Renovation Summary
B5: Structural Renovations | D5: Total | E5: Actual | F5: Notes
B6: General | D6: ='Renovation Checklist'!J17 -> 0 | E6: ='Renovation Checklist'!K17 -> 0
B8: Renovations - Internal | D8: Total | E8: Actual | F8: Notes
B9: Entry | D9: ='Renovation Checklist'!J46 -> 0 | E9: ='Renovation Checklist'!K46 -> 0
B10: Kitchen | D10: ='Renovation Checklist'!J86 -> 0 | E10: ='Renovation Checklist'!K86 -> 0
B11: Bathrooms | D11: ='Renovation Checklist'!J127 -> 0 | E11: ='Renovation Checklist'!K127 -> 0
B12: Toilets | D12: ='Renovation Checklist'!J161 -> 0 | E12: ='Renovation Checklist'!K161 -> 0
B13: Laundry | D13: ='Renovation Checklist'!J195 -> 0 | E13: ='Renovation Checklist'!K195 -> 0
B14: Bedrooms | D14: ='Renovation Checklist'!J228 -> 0 | E14: ='Renovation Checklist'!K228 -> 0
B15: Study | D15: ='Renovation Checklist'!J262 -> 0 | E15: ='Renovation Checklist'!K262 -> 0
B16: Lounge | D16: ='Renovation Checklist'!J291 -> 0 | E16: ='Renovation Checklist'!K291 -> 0
B17: Dining | D17: ='Renovation Checklist'!J320 -> 0 | E17: ='Renovation Checklist'!K320 -> 0
B18: Family | D18: ='Renovation Checklist'!J349 -> 0 | E18: ='Renovation Checklist'!K349 -> 0
B19: Rumpus | D19: ='Renovation Checklist'!J378 -> 0 | E19: ='Renovation Checklist'!K378 -> 0
B20: Hall | D20: ='Renovation Checklist'!J406 -> 0 | E20: ='Renovation Checklist'!K406 -> 0
B21: General | D21: ='Renovation Checklist'!J439 -> 0 | E21: ='Renovation Checklist'!K439 -> 0
B23: Renovations - External | D23: Total | E23: Actual | F23: Notes
B24: General | D24: ='Renovation Checklist'!J471 -> 0 | E24: ='Renovation Checklist'!K471 -> 0
B26: Landscaping - Front | D26: Total | E26: Actual | F26: Notes
B27: General | D27: ='Renovation Checklist'!J498 -> 0 | E27: ='Renovation Checklist'!K498 -> 0
B29: Landscaping - Rear | D29: Total | E29: Actual | F29: Notes
B30: General | D30: ='Renovation Checklist'!J526 -> 0 | E30: ='Renovation Checklist'!K526 -> 0
B32: Total Cost of Renovation | D32: =SUM(D6:D30) -> 0 | E32: =SUM(E6:E30) -> 0
B34: Total Cost of Tiling | D34: ='Tiling Checklist'!J130 -> 0 | E34: ='Tiling Checklist'!K130 -> 0
B36: Total Cost - Alphabetical | D36: ='Alphabetical List'!F185 -> 0 | E36: ='Alphabetical List'!G185 -> 0

Sheet Renovation Checklist
B4: Structural Renovations | D4: Required | H4: Price | I4: Qty | J4: Total | K4: Actual | L4: Notes
C6: Restumping | D6: Yes / No | H6: 0 | J6: =H6*I6 -> 0 | K6: 0
C7: Underpinning | D7: Yes / No | H7: 0 | J7: 0 | K7: 0
C8: Reflooring - materials | D8: Yes / No | H8: 0 | J8: 0 | K8: 0
C9: Structural beam inserted | D9: Yes / No | H9: 0 | J9: =H9*I9 -> 0 | K9: 0
C10: Wall changes - frame | D10: Yes / No | H10: 0 | J10: =H10*I10 -> 0 | K10: 0
C11: Wall changes - plaster | D11: Yes / No | H11: 0 | J11: =H11*I11 -> 0 | K11: 0
C12: Wall changes - wiring | D12: Yes / No | H12: 0 | J12: =H12*I12 -> 0 | K12: 0
C13: Extension Construction | D13: Yes / No | H13: 0 | J13: =H13*I13 -> 0 | K13: 0
C14: Roof Modifications | D14: Yes / No | H14: 0 | J14: =H14*I14 -> 0 | K14: 0
C15: Electrical Wiring | D15: Yes / No | H15: 0 | J15: =H15*I15 -> 0 | K15: 0
C16: Plumbing | D16: Yes / No | H16: 0 | J16: =H16*I16 -> 0 | K16: 0
C17: Total | J17: =SUBTOTAL(9,J6:J16) -> 0 | K17: =SUBTOTAL(9,K6:K16) -> 0
B19: Renovations - Internal | D19: Required | H19: Price | I19: Qty | J19: Total | K19: Actual | L19: Notes
B20: Entry
C21: Architraves / skirting | D21: Yes / No | H21: 0 | J21: =H21*I21 -> 0 | K21: 0
C22: Blinds / Curtains | D22: Yes / No | H22: 0 | J22: =H22*I22 -> 0 | K22: 0
C23: Ceiling | D23: Yes / No | H23: 0 | J23: =H23*I23 -> 0 | K23: 0
C24: Closet / linen press | D24: Yes / No | H24: 0 | J24: =H24*I24 -> 0 | K24: 0
C25: Cornice | D25: Yes / No | H25: 0 | J25: =H25*I25 -> 0 | K25: 0
C26: Door - Insect Screen | D26: Yes / No | H26: 0 | J26: =H26*I26 -> 0 | K26: 0
C27: Door - Security Grille | D27: Yes / No | H27: 0 | J27: =H27*I27 -> 0 | K27: 0
C28: Floor coverings | D28: Yes / No | H28: 0 | J28: =H28*I28 -> 0 | K28: 0
C29: Front Door - handle | D29: Yes / No | H29: 0 | J29: =H29*I29 -> 0 | K29: 0
C30: Front Door - internal | D30: Yes / No | H30: 0 | J30: =H30*I30 -> 0 | K30: 0
C31: Front Door - jamb | D31: Yes / No | H31: 0 | J31: =H31*I31 -> 0 | K31: 0
C32: Front Door - locks | D32: Yes / No | H32: 0 | J32: =H32*I32 -> 0 | K32: 0
... C45: Windows | D45: Yes / No | H45: 0 | J45: =H45*I45 -> 0 | K45: 0
C46: Total | J46: =SUBTOTAL(9,J21:J45) -> 0 | K46: =SUBTOTAL(9,K21:K45) -> 0
B48: Renovations - Internal | D48: Required | H48: Price | I48: Qty | J48: Total | K48: Actual | L48: Notes
B49: Kitchen
C50: Architraves / skirting | D50: Yes / No | H50: 0 | J50: =H50*I50 -> 0 | K50: 0
C51: Blinds / Curtains | D51: Yes / No | H51: 0 | J51: =H51*I51 -> 0 | K51: 0
C52: Ceiling | D52: Yes / No | H52: 0 | J52: =H52*I52 -> 0 | K52: 0
C53: Ceiling fan | D53: Yes / No | H53: 0 | J53: =H53*I53 -> 0 | K53: 0
C54: Cooktop | D54: Yes / No | H54: 0 | J54: =H54*I54 -> 0 | K54: 0
C55: Cornice | D55: Yes / No | H55: 0 | J55: =H55*I55 -> 0 | K55: 0
C56: Dishwasher | D56: Yes / No | H56: 0 | J56: =H56*I56 -> 0 | K56: 0
C57: Disposal unit | D57: Yes / No | H57: 0 | J57: =H57*I57 -> 0 | K57: 0
C58: Door - handle | D58: Yes / No | H58: 0 | J58: =H58*I58 -> 0 | K58: 0
C59: Door - internal | D59: Yes / No | H59: 0 | J59: =H59*I59 -> 0 | K59: 0
C60: Door - jamb | D60: Yes / No | H60: 0 | J60: =H60*I60 -> 0 | K60: 0
C61: Door - stop | D61: Yes / No | H61: 0 | J61: =H61*I61 -> 0 | K61: 0
... C85: Windows | D85: Yes / No | H85: 0 | J85: =H85*I85 -> 0 | K85: 0
C86: Total | J86: =SUBTOTAL(9,J50:J85) -> 0 | K86: =SUBTOTAL(9,K50:K85) -> 0
B88: Renovations - Internal | D88: Required | H88: Price | I88: Qty | J88: Total | K88: Actual | L88: Notes
B89: Bathrooms | D89: En Suite | E89: 1 | F89: 2
C90: 3 in 1 Heater / fan / light | D90: Yes / No | E90: Yes / No | F90: Yes / No | H90: 0 | J90: =H90*I90 -> 0 | K90: 0
C91: Architraves / skirting | D91: Yes / No | E91: Yes / No | F91: Yes / No | H91: 0 | J91: =H91*I91 -> 0 | K91: 0
C92: Bath / Spa Bath | D92: Yes / No | E92: Yes / No | F92: Yes / No | H92: 0 | J92: =H92*I92 -> 0 | K92: 0
C93: Bath towel holder | D93: Yes / No | E93: Yes / No | F93: Yes / No | H93: 0 | J93: =H93*I93 -> 0 | K93: 0
C94: Blinds / Curtains | D94: Yes / No | E94: Yes / No | F94: Yes / No | H94: 0 | J94: =H94*I94 -> 0 | K94: 0
C95: Ceiling | D95: Yes / No | E95: Yes / No | F95: Yes / No | H95: 0 | J95: =H95*I95 -> 0 | K95: 0
C96: Cornice | D96: Yes / No | E96: Yes / No | F96: Yes / No | H96: 0 | J96: =H96*I96 -> 0 | K96: 0
C97: Door - handle | D97: Yes / No | E97: Yes / No | F97: Yes / No | H97: 0 | J97: =H97*I97 -> 0 | K97: 0
C98: Door - internal | D98: Yes / No | E98: Yes / No | F98: Yes / No | H98: 0 | J98: =H98*I98 -> 0 | K98: 0
C99: Door - jamb | D99: Yes / No | E99: Yes / No | F99: Yes / No | H99: 0 | J99: =H99*I99 -> 0 | K99: 0
C100: Door - stop | D100: Yes / No | E100: Yes / No | F100: Yes / No | H100: 0 | J100: =H100*I100 -> 0 | K100: 0
C101: Exhaust fan | D101: Yes / No | E101: Yes / No | F101: Yes / No | H101: 0 | J101: =H101*I101 -> 0 | K101: 0
... C126: Windows | D126: Yes / No | E126: Yes / No | F126: Yes / No | H126: 0 | J126: =H126*I126 -> 0 | K126: 0
C127: Total | J127: =SUBTOTAL(9,J90:J126) -> 0 | K127: =SUBTOTAL(9,K90:K126) -> 0
B129: Renovations - Internal | D129: Required | H129: Price | I129: Qty | J129: Total | K129: Actual | L129: Notes
B130: Toilets | D130: 1 | E130: 2 | F130: 3
C131: Architraves / skirting | D131: Yes / No | E131: Yes / No | F131: Yes / No | H131: 0 | J131: =H131*I131 -> 0 | K131: 0
C132: Blinds / Curtains | D132: Yes / No | E132: Yes / No | F132: Yes / No | H132: 0 | J132: =H132*I132 -> 0 | K132: 0
C133: Ceiling | D133: Yes / No | E133: Yes / No | F133: Yes / No | H133: 0 | J133: =H133*I133 -> 0 | K133: 0
C134: Cornice | D134: Yes / No | E134: Yes / No | F134: Yes / No | H134: 0 | J134: =H134*I134 -> 0 | K134: 0
C135: Door - handle | D135: Yes / No | E135: Yes / No | F135: Yes / No | H135: 0 | J135: =H135*I135 -> 0 | K135: 0
C136: Door - internal | D136: Yes / No | E136: Yes / No | F136: Yes / No | H136: 0 | J136: =H136*I136 -> 0 | K136: 0
C137: Door - jamb | D137: Yes / No | E137: Yes / No | F137: Yes / No | H137: 0 | J137: =H137*I137 -> 0 | K137: 0
C138: Door - stop | D138: Yes / No | E138: Yes / No | F138: Yes / No | H138: 0 | J138: =H138*I138 -> 0 | K138: 0
C139: Exhaust fan | D139: Yes / No | E139: Yes / No | F139: Yes / No | H139: 0 | J139: =H139*I139 -> 0 | K139: 0
C140: Floor coverings | D140: Yes / No | E140: Yes / No | F140: Yes / No | H140: 0 | J140: =H140*I140 -> 0 | K140: 0
C141: Hand towel ring | D141: Yes / No | E141: Yes / No | F141: Yes / No | H141: 0 | J141: =H141*I141 -> 0 | K141: 0
C142: Light - downlights | D142: Yes / No | E142: Yes / No | F142: Yes / No | H142: 0 | J142: =H142*I142 -> 0 | K142: 0
... C160: Windows | D160: Yes / No | E160: Yes / No | F160: Yes / No | H160: 0 | J160: =H160*I160 -> 0 | K160: 0
C161: Total | J161: =SUBTOTAL(9,J131:J160) -> 0 | K161: =SUBTOTAL(9,K131:K160) -> 0
B163: Renovations - Internal | D163: Required | H163: Price | I163: Qty | J163: Total | K163: Actual | L163: Notes
B164: Laundry
C165: Architraves / skirting | D165: Yes / No | H165: 0 | J165: =H165*I165 -> 0 | K165: 0
C166: Blinds / Curtains | D166: Yes / No | H166: 0 | J166: =H166*I166 -> 0 | K166: 0
C167: Cabinet - bench | D167: Yes / No | H167: 0 | J167: =H167*I167 -> 0 | K167: 0
C168: Cabinet - doors | D168: Yes / No | H168: 0 | J168: =H168*I168 -> 0 | K168: 0
C169: Cabinets - general | D169: Yes / No | H169: 0 | J169: =H169*I169 -> 0 | K169: 0
C170: Ceiling | D170: Yes / No | H170: 0 | J170: =H170*I170 -> 0 | K170: 0
C171: Cornice | D171: Yes / No | H171: 0 | J171: =H171*I171 -> 0 | K171: 0
C172: Door - handle | D172: Yes / No | H172: 0 | J172: =H172*I172 -> 0 | K172: 0
C173: Door - internal | D173: Yes / No | H173: 0 | J173: =H173*I173 -> 0 | K173: 0
C174: Door - jamb | D174: Yes / No | H174: 0 | J174: =H174*I174 -> 0 | K174: 0
C175: Door - stop | D175: Yes / No | H175: 0 | J175: =H175*I175 -> 0 | K175: 0
C176: Exhaust fan | D176: Yes / No | H176: 0 | J176: =H176*I176 -> 0 | K176: 0
... C194: Windows | D194: Yes / No | H194: 0 | J194: =H194*I194 -> 0 | K194: 0
C195: Total | J195: =SUBTOTAL(9,J165:J194) -> 0 | K195: =SUBTOTAL(9,K165:K194) -> 0
B197: Renovations - Internal | D197: Required | H197: Price | I197: Qty | J197: Total | K197: Actual | L197: Notes
B198: Bedrooms | D198: Master | E198: 2 | F198: 3 | G198: 4
C199: Architraves / skirting | D199: Yes / No | E199: Yes / No | F199: Yes / No | G199: Yes / No | H199: 0 | J199: =H199*I199 -> 0 | K199: 0
C200: Blinds / Curtains | D200: Yes / No | E200: Yes / No | F200: Yes / No | G200: Yes / No | H200: 0 | J200: =H200*I200 -> 0 | K200: 0
C201: Ceiling | D201: Yes / No | E201: Yes / No | F201: Yes / No | G201: Yes / No | H201: 0 | J201: =H201*I201 -> 0 | K201: 0
C202: Ceiling fan | D202: Yes / No | E202: Yes / No | F202: Yes / No | G202: Yes / No | H202: 0 | J202: =H202*I202 -> 0 | K202: 0
C203: Cornice | D203: Yes / No | E203: Yes / No | F203: Yes / No | G203: Yes / No | H203: 0 | J203: =H203*I203 -> 0 | K203: 0
...

Sheet Tiling Checklist
B4: External Tiles | D4: Required | H4: Price | I4: Qty | J4: Total | K4: Actual | L4: Notes
C6: Porch | D6: Yes / No | H6: 0 | J6: =H6*I6 -> 0 | K6: 0
C7: Path | D7: Yes / No | H7: 0 | J7: =H7*I7 -> 0 | K7: 0
C8: Driveway | D8: Yes / No | H8: 0 | J8: =H8*I8 -> 0 | K8: 0
C9: Courtyard paving | D9: Yes / No | H9: 0 | J9: =H9*I9 -> 0 | K9: 0
C10: Edging | D10: Yes / No | H10: 0 | J10: =H10*I10 -> 0 | K10: 0
C11: Total | J11: =SUBTOTAL(9,J6:J10) -> 0 | K11: =SUBTOTAL(9,K6:K10) -> 0
B13: Internal Tiles | D13: Required | H13: Price | I13: Qty | J13: Total | K13: Actual | L13: Notes
B14: Floor - Main
C15: Tile | D15: Yes / No | H15: 0 | J15: =H15*I15 -> 0 | K15: 0
C16: Grout | D16: Yes / No | H16: 0 | J16: =H16*I16 -> 0 | K16: 0
C17: Entrance feature tile | D17: Yes / No | H17: 0 | J17: =H17*I17 -> 0 | K17: 0
C18: Feature tile grout | D18: Yes / No | H18: 0 | J18: =H18*I18 -> 0 | K18: 0
C19: Tile laying method: | D19: Yes / No | H19: 0 | J19: =H19*I19 -> 0 | K19: 0
C20: Border | D20: Yes / No | H20: 0 | J20: =H20*I20 -> 0 | K20: 0
C21: Total | J21: =SUBTOTAL(9,J15:J20) -> 0 | K21: =SUBTOTAL(9,K15:K20) -> 0
B23: Floor - Kitchen
C24: Tile | D24: Yes / No | H24: 0 | J24: =H24*I24 -> 0 | K24: 0
C25: Grout | D25: Yes / No | H25: 0 | J25: =H25*I25 -> 0 | K25: 0
C26: Feature floor tile | D26: Yes / No | H26: 0 | J26: =H26*I26 -> 0 | K26: 0
C27: Feature tile grout | D27: Yes / No | H27: 0 | J27: =H27*I27 -> 0 | K27: 0
C28: Tile laying method: | D28: Yes / No | H28: 0 | J28: =H28*I28 -> 0 | K28: 0
C29: Border | D29: Yes / No | H29: 0 | J29: =H29*I29 -> 0 | K29: 0
C30: Total | J30: =SUBTOTAL(9,J24:J29) -> 0 | K30: =SUBTOTAL(9,K24:K29) -> 0
B32: Floor - Bathroom
C33: Tile | D33: Yes / No | H33: 0 | J33: =H33*I33 -> 0 | K33: 0
C34: Grout | D34: Yes / No | H34: 0 | J34: =H34*I34 -> 0 | K34: 0
C35: Feature tile | D35: Yes / No | H35: 0 | J35: =H35*I35 -> 0 | K35: 0
C36: Feature tile grout | D36: Yes / No | H36: 0 | J36: =H36*I36 -> 0 | K36: 0
C37: Tile laying method: | D37: Yes / No | H37: 0 | J37: =H37*I37 -> 0 | K37: 0
C38: Border | D38: Yes / No | H38: 0 | J38: =H38*I38 -> 0 | K38: 0
C39: Tiled skirt | D39: Yes / No | H39: 0 | J39: =H39*I39 -> 0 | K39: 0
C40: Total | J40: =SUBTOTAL(9,J33:J39) -> 0 | K40: =SUBTOTAL(9,K33:K39) -> 0
B42: Floor - Ensuite
C43: Tile | D43: Yes / No | H43: 0 | J43: =H43*I43 -> 0 | K43: 0
C44: Grout | D44: Yes / No | H44: 0 | J44: =H44*I44 -> 0 | K44: 0
C45: Feature tile | D45: Yes / No | H45: 0 | J45: =H45*I45 -> 0 | K45: 0
C46: Feature tile grout | D46: Yes / No | H46: 0 | J46: =H46*I46 -> 0 | K46: 0
C47: Tile laying method: | D47: Yes / No | H47: 0 | J47: =H47*I47 -> 0 | K47: 0
C48: Border (Yes / No) | D48: Yes / No | H48: 0 | J48: =H48*I48 -> 0 | K48: 0
C49: Tiled skirt (Yes / No) | D49: Yes / No | H49: 0 | J49: =H49*I49 -> 0 | K49: 0
C50: Total | J50: =SUBTOTAL(9,J43:J49) -> 0 | K50: =SUBTOTAL(9,K43:K49) -> 0
B52: Floor - Toilets
C53: Tile | D53: Yes / No | H53: 0 | J53: =H53*I53 -> 0 | K53: 0
C54: Grout | D54: Yes / No | H54: 0 | J54: =H54*I54 -> 0 | K54: 0
C55: Feature tile | D55: Yes / No | H55: 0 | J55: =H55*I55 -> 0 | K55: 0
C56: Feature tile grout | D56: Yes / No | H56: 0 | J56: =H56*I56 -> 0 | K56: 0
C57: Tile laying method: | D57: Yes / No | H57: 0 | J57: =H57*I57 -> 0 | K57: 0
C58: Border (Yes / No) | D58: Yes / No | H58: 0 | J58: =H58*I58 -> 0 | K58: 0
C59: Tiled skirt (Yes / No) | D59: Yes / No | H59: 0 | J59: =H59*I59 -> 0 | K59: 0
C60: Total | J60: =SUBTOTAL(9,J53:J59) -> 0 | K60: =SUBTOTAL(9,K53:K59) -> 0
B62: Floor - Laundry
C63: Tile | D63: Yes / No | H63: 0 | J63: =H63*I63 -> 0 | K63: 0
C64: Grout | D64: Yes / No | H64: 0 | J64: =H64*I64 -> 0 | K64: 0
C65: Feature tile | D65: Yes / No | H65: 0 | J65: =H65*I65 -> 0 | K65: 0
C66: Feature tile grout | D66: Yes / No | H66: 0 | J66: =H66*I66 -> 0 | K66: 0
C67: Tile laying method: | D67: Yes / No | H67: 0 | J67: =H67*I67 -> 0 | K67: 0
C68: Border (Yes / No) | D68: Yes / No | H68: 0 | J68: =H68*I68 -> 0 | K68: 0
C69: Tiled skirt (Yes / No) | D69: Yes / No | H69: 0 | J69: =H69*I69 -> 0 | K69: 0
C70: Total | J70: =SUBTOTAL(9,J63:J69) -> 0 | K70: =SUBTOTAL(9,K63:K69) -> 0
B72: Floor - Other:
C73: Tile | D73: Yes / No | H73: 0 | J73: =H73*I73 -> 0 | K73: 0
C74: Grout | D74: Yes / No | H74: 0 | J74: =H74*I74 -> 0 | K74: 0
C75: Feature tile | D75: Yes / No | H75: 0 | J75: =H75*I75 -> 0 | K75: 0
C76: Feature tile grout | D76: Yes / No | H76: 0 | J76: =H76*I76 -> 0 | K76: 0
C77: Tile laying method: | D77: Yes / No | H77: 0 | J77: =H77*I77 -> 0 | K77: 0
C78: Border (Yes / No) | D78: Yes / No | H78: 0 | J78: =H78*I78 -> 0 | K78: 0
C79: Tiled skirt (Yes / No) | D79: Yes / No | H79: 0 | J79: =H79*I79 -> 0 | K79: 0
C80: Total | J80: =SUBTOTAL(9,J73:J79) -> 0 | K80: =SUBTOTAL(9,K73:K79) -> 0
B82: Kitchen - Wall Tiles (Splashback)
C83: Splashback tile | D83: Yes / No | H83: 0 | J83: =H83*I83 -> 0 | K83: 0
C84: Splashback grout | D84: Yes / No | H84: 0 | J84: =H84*I84 -> 0 | K84: 0
C85: Feature tile | D85: Yes / No | H85: 0 | J85: =H85*I85 -> 0 | K85: 0
C86: Feature tile grout | D86: Yes / No | H86: 0 | J86: =H86*I86 -> 0 | K86: 0
C87: Tile laying method: | D87: Yes / No | H87: 0 | J87: =H87*I87 -> 0 | K87: 0
C88: Border (Yes / No) | D88: Yes / No | H88: 0 | J88: =H88*I88 -> 0 | K88: 0
C89: Tiled skirt (Yes / No) | D89: Yes / No | H89: 0 | J89: =H89*I89 -> 0 | K89: 0
C90: Total | J90: =SUBTOTAL(9,J83:J89) -> 0 | K90: =SUBTOTAL(9,K83:K89) -> 0
B92: Bathroom - Wall Tiles
C93: Wall tile | D93: Yes / No | H93: 0 | J93: =H93*I93 -> 0 | K93: 0
C94: Grout | D94: Yes / No | H94: 0 | J94: =H94*I94 -> 0 | K94: 0
C95: Feature tile | D95: Yes / No | H95: 0 | J95: =H95*I95 -> 0 | K95: 0
C96: Feature tile grout | D96: Yes / No | H96: 0 | J96: =H96*I96 -> 0 | K96: 0
C97: Tile laying method: | D97: Yes / No | H97: 0 | J97: =H97*I97 -> 0 | K97: 0
C98: Total | J98: =SUBTOTAL(9,J93:J97) -> 0 | K98: =SUBTOTAL(9,K93:K97) -> 0
B100: Ensuite - Wall Tiles
C101: Wall tile | D101: Yes / No | H101: 0 | J101: =H101*I101 -> 0 | K101: 0
C102: Grout | D102: Yes / No | H102: 0 | J102: =H102*I102 -> 0 | K102: 0
C103: Feature tile | D103: Yes / No | H103: 0 | J103: =H103*I103 -> 0 | K103: 0
C104: Feature tile grout | D104: Yes / No | H104: 0 | J104: =H104*I104 -> 0 | K104: 0
C105: Tile laying method: | D105: Yes / No | H105: 0 | J105: =H105*I105 -> 0 | K105: 0
C106: Total | J106: =SUBTOTAL(9,J101:J105) -> 0 | K106: =SUBTOTAL(9,K101:K105) -> 0
B108: Laundry - Wall Tiles
C109: Wall tile | D109: Yes / No | H109: 0 | J109: =H109*I109 -> 0 | K109: 0
C110: Grout | D110: Yes / No | H110: 0 | J110: =H110*I110 -> 0 | K110: 0
C111: Feature tile | D111: Yes / No | H111: 0 | J111: =H111*I111 -> 0 | K111: 0
C112: Feature tile grout | D112: Yes / No | H112: 0 | J112: =H112*I112 -> 0 | K112: 0
C113: Tile laying method: | D113: Yes / No | H113: 0 | J113: =H113*I113 -> 0 | K113: 0
C114: Total | J114: =SUBTOTAL(9,J109:J113) -> 0 | K114: =SUBTOTAL(9,K109:K113) -> 0
B116: Wall - Other:
...

Sheet Alphabetical List
B4: Item | C4: Required | D4: Price | E4: Qty | F4: Total | G4: Actual | H4: Notes
B6: 3 in 1 Heater / fan / light | C6: Yes / No | D6: 0 | F6: =D6*E6 -> 0 | G6: 0
B7: Alarm Systems | C7: Yes / No | D7: 0 | F7: =D7*E7 -> 0 | G7: 0
B8: Architraves / skirting | C8: Yes / No | D8: 0 | F8: =D8*E8 -> 0 | G8: 0
B9: Asbestos Removal | C9: Yes / No | D9: 0 | F9: =D9*E9 -> 0 | G9: 0
B10: Back door | C10: Yes / No | D10: 0 | F10: =D10*E10 -> 0 | G10: 0
B11: Back door - handle / lock | C11: Yes / No | D11: 0 | F11: =D11*E11 -> 0 | G11: 0
B12: Back door - jamb | C12: Yes / No | D12: 0 | F12: =D12*E12 -> 0 | G12: 0
B13: Back door - stop | C13: Yes / No | D13: 0 | F13: =D13*E13 -> 0 | G13: 0
B14: Bagging | C14: Yes / No | D14: 0 | F14: =D14*E14 -> 0 | G14: 0
B15: Bath / Spa Bath | C15: Yes / No | D15: 0 | F15: =D15*E15 -> 0 | G15: 0
B16: Bath towel holder | C16: Yes / No | D16: 0 | F16: =D16*E16 -> 0 | G16: 0
B17: Blinds / Curtains | C17: Yes / No | D17: 0 | F17: =D17*E17 -> 0 | G17: 0
... B183: Windows | C183: Yes / No | D183: 0 | F183: =D183*E183 -> 0 | G183: 0
B185: Total Cost | F185: =SUM(F6:F184) -> 0 | G185: =SUM(G6:G184) -> 0

Sheet Action List
B4: Preparation
B5: Plans | F5: Notes
C6: Request Town Planning Plans drawn up
C7: Submit Town Planning Application and Plans to Council
C8: Obtain Town Planning permit
C9: Request Building Plans drawn up
C10: Submit Building Application and Plans to Council
C11: Obtain Building Permit
C12: Sign building contract (if applicable)
C13: Erect Safety / Security Fencing
C14: Tentatively book trades (giving rough time frame), record
B15: Place orders
C16: Materials
C17: Window coverings
B18: Photos
C19: Take before photos
B22: Demolition
B23: General | F23: Notes
C24: Organise skip bin
C25: Remove any old cabinets/furniture
C26: Remove old floor coverings (carpet, tiles, lino, etc)
C27: Remove all door handles and knobs (store if required)
C28: Remove all window coverings, rails and rail holders
C29: Remove wallpaper
C30: Strip external wall cladding requiring replacement
B31: Electrical
C32: Disconect Mains Supply and organise temporary power
C33: Remove oven/stove and plug wires
C34: Remove all light fittings and plug wires
C35: Remove all power points /switches and plug wires
C36: Remove all external light fittings and plug wires
B37: Plumbing
C38: Turn off water at meter
C39: Turn off gas at meter
C40: Disconnect all plumbing wastes and cap off
C41: Remove all internal taps and cap off
B42: Kitchen
C43: Remove all cabinets
C44: Remove wall tiles / splashback and glue
C45: Remove skirting (store if using the same)
B46: Bathrooms / Toilets
C47: Remove vanity
C48: Remove wall tiles and glue
C49: Remove rail and curtain or shower screen
C50: Remove bath and hob
C51: Remove all fixtures (towel rails, rings, etc)
C52: Remove toilet seats
C53: Remove cistern and/or pan
C54: Remove skirting (store if using the same)
B55: Laundry
C56: Remove tub
C57: Remove wall tiles and glue
C58: Remove skirting (store if using the same)
B61: Base
B62: General | F62: Notes
C63: Correct foundation issues (eg. Restumping)
C64: Flooring repaired and straightened
C65: Any new flooring laid
C66: Building Permit: Base Inspection (usually at excavation)
B69: Frame
B70: General | F70: Notes
C71: Remove / add walls
C72: Wire TV points
C73: Wire telephone points
C74: Repair / replace robes in bedrooms
C75: Repair / replace linen press
C76: Repair / replace heating
C77: Building Permit: Frame Inspection
C78: Prepare walls for plaster
B79: Electrical Wiring Installation
C80: General
D81: Replace required wiring
D82: Wire all new power points
D83: Wire all new lights and switches
D84: Wire all new smoke alarms / detectors
C85: Kitchen
D86: GPO - Hotplate igniter point (single)
D87: GPO - Range hood point (single)
D88: GPO - Fridge point (double)
D89: GPO - Oven / stove point and circuit (single)
D90: GPO - Bench top (double)
C91: Bathroom
D92: GPO - vanity (double)
D93: Exhaust fan (or IXL heater) point and switch
C94: Other
D95: GPO - Washing machine point (double)
D96: Hot water service (HWS)
D97: Remote roller door
B98: Plumbing Installation
C99: Other
D100: How water service
C101: Kitchen
D102: Sink mixer tap and waste
D103: Gas for hotplates
D104: Water for Dishwasher
C105: Bathroom
D106: Vanity taps and waste
D107: Install shower base, waste and rough in taps
D108: Install bath, waste and rough in taps
C109: Toilet
...
