Workbook

Sheet Renovation Summary
B5: Structural Renovations | D5: Total | E5: Actual | F5: Notes
B6: General | D6: ='Renovation Checklist'!J17 -> 0 | E6: ='Renovation Checklist'!K17 -> 0
B8: Renovations - Internal | D8: Total | E8: Actual | F8: Notes
B9: Entry | D9: ='Renovation Checklist'!J46 -> 0 | E9: ='Renovation Checklist'!K46 -> 0
B10: Kitchen | D10: ='Renovation Checklist'!J86 -> 0 | E10: ='Renovation Checklist'!K86 -> 0
B11: Bathrooms | D11: ='Renovation Checklist'!J127 -> 0 | E11: ='Renovation Checklist'!K127 -> 0
B12: Toilets | D12: ='Renovation Checklist'!J161 -> 0 | E12: ='Renovation Checklist'!K161 -> 0
B13: Laundry | D13: ='Renovation Checklist'!J195 -> 0 | E13: ='Renovation Checklist'!K195 -> 0
B14: Bedrooms | D14: ='Renovation Checklist'!J228 -> 0 | E14: ='Renovation Checklist'!K228 -> 0
B15: Study | D15: ='Renovation Checklist'!J262 -> 0 | E15: ='Renovation Checklist'!K262 -> 0
B16: Lounge | D16: ='Renovation Checklist'!J291 -> 0 | E16: ='Renovation Checklist'!K291 -> 0
B17: Dining | D17: ='Renovation Checklist'!J320 -> 0 | E17: ='Renovation Checklist'!K320 -> 0
B18: Family | D18: ='Renovation Checklist'!J349 -> 0 | E18: ='Renovation Checklist'!K349 -> 0
B19: Rumpus | D19: ='Renovation Checklist'!J378 -> 0 | E19: ='Renovation Checklist'!K378 -> 0
B20: Hall | D20: ='Renovation Checklist'!J406 -> 0 | E20: ='Renovation Checklist'!K406 -> 0
B21: General | D21: ='Renovation Checklist'!J439 -> 0 | E21: ='Renovation Checklist'!K439 -> 0
B23: Renovations - External | D23: Total | E23: Actual | F23: Notes
B24: General | D24: ='Renovation Checklist'!J471 -> 0 | E24: ='Renovation Checklist'!K471 -> 0
B26: Landscaping - Front | D26: Total | E26: Actual | F26: Notes
B27: General | D27: ='Renovation Checklist'!J498 -> 0 | E27: ='Renovation Checklist'!K498 -> 0
B29: Landscaping - Rear | D29: Total | E29: Actual | F29: Notes
B30: General | D30: ='Renovation Checklist'!J526 -> 0 | E30: ='Renovation Checklist'!K526 -> 0
B32: Total Cost of Renovation | D32: =SUM(D6:D30) -> 0 | E32: =SUM(E6:E30) -> 0
B34: Total Cost of Tiling | D34: ='Tiling Checklist'!J130 -> 0 | E34: ='Tiling Checklist'!K130 -> 0
B36: Total Cost - Alphabetical | D36: ='Alphabetical List'!F185 -> 0 | E36: ='Alphabetical List'!G185 -> 0

Sheet Renovation Checklist
B4: Structural Renovations | D4: Required | H4: Price | I4: Qty | J4: Total | K4: Actual | L4: Notes
C6: Restumping | D6: Yes / No | H6: 0 | J6: =H6*I6 -> 0 | K6: 0
C7: Underpinning | D7: Yes / No | H7: 0 | J7: 0 | K7: 0
C8: Reflooring - materials | D8: Yes / No | H8: 0 | J8: 0 | K8: 0
C9: Structural beam inserted | D9: Yes / No | H9: 0 | J9: =H9*I9 -> 0 | K9: 0
C10: Wall changes - frame | D10: Yes / No | H10: 0 | J10: =H10*I10 -> 0 | K10: 0
C11: Wall changes - plaster | D11: Yes / No | H11: 0 | J11: =H11*I11 -> 0 | K11: 0
C12: Wall changes - wiring | D12: Yes / No | H12: 0 | J12: =H12*I12 -> 0 | K12: 0
C13: Extension Construction | D13: Yes / No | H13: 0 | J13: =H13*I13 -> 0 | K13: 0
C14: Roof Modifications | D14: Yes / No | H14: 0 | J14: =H14*I14 -> 0 | K14: 0
C15: Electrical Wiring | D15: Yes / No | H15: 0 | J15: =H15*I15 -> 0 | K15: 0
C16: Plumbing | D16: Yes / No | H16: 0 | J16: =H16*I16 -> 0 | K16: 0
C17: Total | J17: =SUBTOTAL(9,J6:J16) -> 0 | K17: =SUBTOTAL(9,K6:K16) -> 0
B19: Renovations - Internal | D19: Required | H19: Price | I19: Qty | J19: Total | K19: Actual | L19: Notes
B20: Entry
C21: Architraves / skirting | D21: Yes / No | H21: 0 | J21: =H21*I21 -> 0 | K21: 0
C22: Blinds / Curtains | D22: Yes / No | H22: 0 | J22: =H22*I22 -> 0 | K22: 0
C23: Ceiling | D23: Yes / No | H23: 0 | J23: =H23*I23 -> 0 | K23: 0
C24: Closet / linen press | D24: Yes / No | H24: 0 | J24: =H24*I24 -> 0 | K24: 0
C25: Cornice | D25: Yes / No | H25: 0 | J25: =H25*I25 -> 0 | K25: 0
C26: Door - Insect Screen | D26: Yes / No | H26: 0 | J26: =H26*I26 -> 0 | K26: 0
C27: Door - Security Grille | D27: Yes / No | H27: 0 | J27: =H27*I27 -> 0 | K27: 0
C28: Floor coverings | D28: Yes / No | H28: 0 | J28: =H28*I28 -> 0 | K28: 0
C29: Front Door - handle | D29: Yes / No | H29: 0 | J29: =H29*I29 -> 0 | K29: 0
C30: Front Door - internal | D30: Yes / No | H30: 0 | J30: =H30*I30 -> 0 | K30: 0
C31: Front Door - jamb | D31: Yes / No | H31: 0 | J31: =H31*I31 -> 0 | K31: 0
C32: Front Door - locks | D32: Yes / No | H32: 0 | J32: =H32*I32 -> 0 | K32: 0
... C45: Windows | D45: Yes / No | H45: 0 | J45: =H45*I45 -> 0 | K45: 0
C46: Total | J46: =SUBTOTAL(9,J21:J45) -> 0 | K46: =SUBTOTAL(9,K21:K45) -> 0
B48: Renovations - Internal | D48: Required | H48: Price | I48: Qty | J48: Total | K48: Actual | L48: Notes
B49: Kitchen
C50: Architraves / skirting | D50: Yes / No | H50: 0 | J50: =H50*I50 -> 0 | K50: 0
C51: Blinds / Curtains | D51: Yes / No | H51: 0 | J51: =H51*I51 -> 0 | K51: 0
C52: Ceiling | D52: Yes / No | H52: 0 | J52: =H52*I52 -> 0 | K52: 0
C53: Ceiling fan | D53: Yes / No | H53: 0 | J53: =H53*I53 -> 0 | K53: 0
C54: Cooktop | D54: Yes / No | H54: 0 | J54: =H54*I54 -> 0 | K54: 0
C55: Cornice | D55: Yes / No | H55: 0 | J55: =H55*I55 -> 0 | K55: 0
C56: Dishwasher | D56: Yes / No | H56: 0 | J56: =H56*I56 -> 0 | K56: 0
C57: Disposal unit | D57: Yes / No | H57: 0 | J57: =H57*I57 -> 0 | K57: 0
C58: Door - handle | D58: Yes / No | H58: 0 | J58: =H58*I58 -> 0 | K58: 0
...

Sheet Tiling Checklist
B4: External Tiles | D4: Required | H4: Price | I4: Qty | J4: Total | K4: Actual | L4: Notes
C6: Porch | D6: Yes / No | H6: 0 | J6: =H6*I6 -> 0 | K6: 0
C7: Path | D7: Yes / No | H7: 0 | J7: =H7*I7 -> 0 | K7: 0
C8: Driveway | D8: Yes / No | H8: 0 | J8: =H8*I8 -> 0 | K8: 0
C9: Courtyard paving | D9: Yes / No | H9: 0 | J9: =H9*I9 -> 0 | K9: 0
C10: Edging | D10: Yes / No | H10: 0 | J10: =H10*I10 -> 0 | K10: 0
C11: Total | J11: =SUBTOTAL(9,J6:J10) -> 0 | K11: =SUBTOTAL(9,K6:K10) -> 0
B13: Internal Tiles | D13: Required | H13: Price | I13: Qty | J13: Total | K13: Actual | L13: Notes
B14: Floor - Main
C15: Tile | D15: Yes / No | H15: 0 | J15: =H15*I15 -> 0 | K15: 0
C16: Grout | D16: Yes / No | H16: 0 | J16: =H16*I16 -> 0 | K16: 0
C17: Entrance feature tile | D17: Yes / No | H17: 0 | J17: =H17*I17 -> 0 | K17: 0
C18: Feature tile grout | D18: Yes / No | H18: 0 | J18: =H18*I18 -> 0 | K18: 0
C19: Tile laying method: | D19: Yes / No | H19: 0 | J19: =H19*I19 -> 0 | K19: 0
C20: Border | D20: Yes / No | H20: 0 | J20: =H20*I20 -> 0 | K20: 0
C21: Total | J21: =SUBTOTAL(9,J15:J20) -> 0 | K21: =SUBTOTAL(9,K15:K20) -> 0
B23: Floor - Kitchen
C24: Tile | D24: Yes / No | H24: 0 | J24: =H24*I24 -> 0 | K24: 0
C25: Grout | D25: Yes / No | H25: 0 | J25: =H25*I25 -> 0 | K25: 0
C26: Feature floor tile | D26: Yes / No | H26: 0 | J26: =H26*I26 -> 0 | K26: 0
C27: Feature tile grout | D27: Yes / No | H27: 0 | J27: =H27*I27 -> 0 | K27: 0
C28: Tile laying method: | D28: Yes / No | H28: 0 | J28: =H28*I28 -> 0 | K28: 0
C29: Border | D29: Yes / No | H29: 0 | J29: =H29*I29 -> 0 | K29: 0
C30: Total | J30: =SUBTOTAL(9,J24:J29) -> 0 | K30: =SUBTOTAL(9,K24:K29) -> 0
B32: Floor - Bathroom
C33: Tile | D33: Yes / No | H33: 0 | J33: =H33*I33 -> 0 | K33: 0
C34: Grout | D34: Yes / No | H34: 0 | J34: =H34*I34 -> 0 | K34: 0
C35: Feature tile | D35: Yes / No | H35: 0 | J35: =H35*I35 -> 0 | K35: 0
C36: Feature tile grout | D36: Yes / No | H36: 0 | J36: =H36*I36 -> 0 | K36: 0
C37: Tile laying method: | D37: Yes / No | H37: 0 | J37: =H37*I37 -> 0 | K37: 0
C38: Border | D38: Yes / No | H38: 0 | J38: =H38*I38 -> 0 | K38: 0
C39: Tiled skirt | D39: Yes / No | H39: 0 | J39: =H39*I39 -> 0 | K39: 0
C40: Total | J40: =SUBTOTAL(9,J33:J39) -> 0 | K40: =SUBTOTAL(9,K33:K39) -> 0
B42: Floor - Ensuite
C43: Tile | D43: Yes / No | H43: 0 | J43: =H43*I43 -> 0 | K43: 0
C44: Grout | D44: Yes / No | H44: 0 | J44: =H44*I44 -> 0 | K44: 0
C45: Feature tile | D45: Yes / No | H45: 0 | J45: =H45*I45 -> 0 | K45: 0
C46: Feature tile grout | D46: Yes / No | H46: 0 | J46: =H46*I46 -> 0 | K46: 0
C47: Tile laying method: | D47: Yes / No | H47: 0 | J47: =H47*I47 -> 0 | K47: 0
C48: Border (Yes / No) | D48: Yes / No | H48: 0 | J48: =H48*I48 -> 0 | K48: 0
...

Sheet Alphabetical List
B4: Item | C4: Required | D4: Price | E4: Qty | F4: Total | G4: Actual | H4: Notes
B6: 3 in 1 Heater / fan / light | C6: Yes / No | D6: 0 | F6: =D6*E6 -> 0 | G6: 0
B7: Alarm Systems | C7: Yes / No | D7: 0 | F7: =D7*E7 -> 0 | G7: 0
B8: Architraves / skirting | C8: Yes / No | D8: 0 | F8: =D8*E8 -> 0 | G8: 0
B9: Asbestos Removal | C9: Yes / No | D9: 0 | F9: =D9*E9 -> 0 | G9: 0
B10: Back door | C10: Yes / No | D10: 0 | F10: =D10*E10 -> 0 | G10: 0
B11: Back door - handle / lock | C11: Yes / No | D11: 0 | F11: =D11*E11 -> 0 | G11: 0
B12: Back door - jamb | C12: Yes / No | D12: 0 | F12: =D12*E12 -> 0 | G12: 0
B13: Back door - stop | C13: Yes / No | D13: 0 | F13: =D13*E13 -> 0 | G13: 0
B14: Bagging | C14: Yes / No | D14: 0 | F14: =D14*E14 -> 0 | G14: 0
B15: Bath / Spa Bath | C15: Yes / No | D15: 0 | F15: =D15*E15 -> 0 | G15: 0
B16: Bath towel holder | C16: Yes / No | D16: 0 | F16: =D16*E16 -> 0 | G16: 0
B17: Blinds / Curtains | C17: Yes / No | D17: 0 | F17: =D17*E17 -> 0 | G17: 0
... B183: Windows | C183: Yes / No | D183: 0 | F183: =D183*E183 -> 0 | G183: 0
B185: Total Cost | F185: =SUM(F6:F184) -> 0 | G185: =SUM(G6:G184) -> 0

Sheet Action List
B4: Preparation
B5: Plans | F5: Notes
C6: Request Town Planning Plans drawn up
C7: Submit Town Planning Application and Plans to Council
C8: Obtain Town Planning permit
C9: Request Building Plans drawn up
C10: Submit Building Application and Plans to Council
C11: Obtain Building Permit
C12: Sign building contract (if applicable)
C13: Erect Safety / Security Fencing
C14: Tentatively book trades (giving rough time frame), record
B15: Place orders
C16: Materials
C17: Window coverings
B18: Photos
C19: Take before photos
B22: Demolition
B23: General | F23: Notes
C24: Organise skip bin
C25: Remove any old cabinets/furniture
C26: Remove old floor coverings (carpet, tiles, lino, etc)
C27: Remove all door handles and knobs (store if required)
C28: Remove all window coverings, rails and rail holders
C29: Remove wallpaper
C30: Strip external wall cladding requiring replacement
B31: Electrical
C32: Disconect Mains Supply and organise temporary power
C33: Remove oven/stove and plug wires
C34: Remove all light fittings and plug wires
C35: Remove all power points /switches and plug wires
C36: Remove all external light fittings and plug wires
B37: Plumbing
C38: Turn off water at meter
C39: Turn off gas at meter
C40: Disconnect all plumbing wastes and cap off
C41: Remove all internal taps and cap off
B42: Kitchen
C43: Remove all cabinets
C44: Remove wall tiles / splashback and glue
C45: Remove skirting (store if using the same)
...
